BEGIN:VCALENDAR
VERSION:2.0
PRODID:icalendar-ruby
CALSCALE:GREGORIAN
METHOD:PUBLISH
BEGIN:VTIMEZONE
TZID:Pacific/Auckland
BEGIN:DAYLIGHT
DTSTART:20260927T030000
TZOFFSETFROM:+1200
TZOFFSETTO:+1300
RRULE:FREQ=YEARLY;BYDAY=-1SU;BYMONTH=9
TZNAME:NZDT
END:DAYLIGHT
BEGIN:STANDARD
DTSTART:20260405T020000
TZOFFSETFROM:+1300
TZOFFSETTO:+1200
RRULE:FREQ=YEARLY;BYDAY=1SU;BYMONTH=4
TZNAME:NZST
END:STANDARD
END:VTIMEZONE
BEGIN:VEVENT
DTSTAMP:20260423T105638Z
UID:inspection_3006481
DTSTART;TZID=Pacific/Auckland:20260427T144500
DTEND;TZID=Pacific/Auckland:20260427T151500
CLASS:PUBLIC
CREATED:20260421T110711
DESCRIPTION: 
LAST-MODIFIED:20260421T110711
LOCATION:5 Ayr Street\, KAIKORAI\, DUNEDIN\, OTAGO\, New Zealand
SUMMARY:5 Ayr Street\,  Inspection
URL;VALUE=URI:https://www.trgdunedin.co.nz/
END:VEVENT
END:VCALENDAR
